BEGIN:VCALENDAR
VERSION:2.0
PRODID:-//Gladius Tactical - ECPv6.3.7//NONSGML v1.0//EN
CALSCALE:GREGORIAN
METHOD:PUBLISH
X-WR-CALNAME:Gladius Tactical
X-ORIGINAL-URL:https://gladiustactical.com
X-WR-CALDESC:Events for Gladius Tactical
REFRESH-INTERVAL;VALUE=DURATION:PT1H
X-Robots-Tag:noindex
X-PUBLISHED-TTL:PT1H
BEGIN:VTIMEZONE
TZID:America/Los_Angeles
BEGIN:DAYLIGHT
TZOFFSETFROM:-0800
TZOFFSETTO:-0700
TZNAME:PDT
DTSTART:20210314T100000
END:DAYLIGHT
BEGIN:STANDARD
TZOFFSETFROM:-0700
TZOFFSETTO:-0800
TZNAME:PST
DTSTART:20211107T090000
END:STANDARD
END:VTIMEZONE
BEGIN:VEVENT
DTSTART;TZID=America/Los_Angeles:20210604T080000
DTEND;TZID=America/Los_Angeles:20210604T170000
DTSTAMP:20260419T142206
CREATED:20210521T231915Z
LAST-MODIFIED:20210521T231915Z
UID:1011-1622793600-1622826000@gladiustactical.com
SUMMARY:CA State Certificated Baton Permit Training
DESCRIPTION:This course teaches you the skills and abilities required to effectively carry a baton\, as per the required of BSIS. \nSIGN UP HERE
URL:https://gladiustactical.com/event/ca-state-certificated-baton-permit-training/
LOCATION:Gladius Tactical – Los Angeles\, 16117 Covello St.\, Van Nuys\, CA\, 91406\, United States
CATEGORIES:CA BSIS Baton Permit
ATTACH;FMTTYPE=image/jpeg:https://gladiustactical.com/wp-content/uploads/2021/05/baton.jpg
END:VEVENT
BEGIN:VEVENT
DTSTART;TZID=America/Los_Angeles:20210604T080000
DTEND;TZID=America/Los_Angeles:20210604T170000
DTSTAMP:20260419T142206
CREATED:20210521T205749Z
LAST-MODIFIED:20210521T205749Z
UID:953-1622793600-1622826000@gladiustactical.com
SUMMARY:CPR\, First Aid & AED Training & Certification
DESCRIPTION:Learn the skills and abilities to effectively give life-saving CPR techniques as a first responder. During the course an AHA Instructor works with each student to complete their first aid\, CPR and AED skills practice and testing. \nSIGN UP HERE
URL:https://gladiustactical.com/event/cpr-first-aid-aed-training-certification/
LOCATION:Gladius Tactical – Los Angeles\, 16117 Covello St.\, Van Nuys\, CA\, 91406\, United States
CATEGORIES:CPR AHA
ATTACH;FMTTYPE=image/jpeg:https://gladiustactical.com/wp-content/uploads/2021/05/CPR-e1621630610596.jpg
END:VEVENT
BEGIN:VEVENT
DTSTART;TZID=America/Los_Angeles:20210602T100000
DTEND;TZID=America/Los_Angeles:20210602T170000
DTSTAMP:20260419T142206
CREATED:20210521T213213Z
LAST-MODIFIED:20210521T213213Z
UID:967-1622628000-1622653200@gladiustactical.com
SUMMARY:Taser Training
DESCRIPTION:The Taser Training and Certification course teaches you how to utilize a Taser as a non-lethal method of self- defense. Curriculum is broken into three sections: lecture\, demonstration and scenario method.  \nSIGN UP HERE
URL:https://gladiustactical.com/event/taser-training/
LOCATION:Gladius Tactical – Los Angeles\, 16117 Covello St.\, Van Nuys\, CA\, 91406\, United States
CATEGORIES:Taser
ATTACH;FMTTYPE=image/jpeg:https://gladiustactical.com/wp-content/uploads/2021/05/taser.jpg
END:VEVENT
BEGIN:VEVENT
DTSTART;TZID=America/Los_Angeles:20210531T090000
DTEND;TZID=America/Los_Angeles:20210609T170000
DTSTAMP:20260419T142206
CREATED:20210505T061145Z
LAST-MODIFIED:20210521T220509Z
UID:778-1622451600-1623258000@gladiustactical.com
SUMMARY:Advanced Handgun Shooting Tactics Training
DESCRIPTION:This course is designed to iron out your weaknesses and teach you how to use a handgun in tactical situations. \nSIGN UP HERE
URL:https://gladiustactical.com/event/advanced-handgun-shooting-tactics-training/
LOCATION:Gladius Tactical – Los Angeles\, 16117 Covello St.\, Van Nuys\, CA\, 91406\, United States
CATEGORIES:Firearms Course, Advanced
ATTACH;FMTTYPE=image/jpeg:https://gladiustactical.com/wp-content/uploads/2021/05/photo-fXVqrSarT8.jpg
END:VEVENT
BEGIN:VEVENT
DTSTART;TZID=America/Los_Angeles:20210525T080000
DTEND;TZID=America/Los_Angeles:20210526T170000
DTSTAMP:20260419T142206
CREATED:20210521T174557Z
LAST-MODIFIED:20210521T174557Z
UID:923-1621929600-1622048400@gladiustactical.com
SUMMARY:Emergency Vehicle Operation Course (EVOC)
DESCRIPTION:This is a two-day driving program that is fully customized for professional security drivers\, executive drivers\, and protection teams seeking to build specialized skills and gain a better understanding of transporting clients in coupes\, sedans and SUVs. \nSIGN UP HERE
URL:https://gladiustactical.com/event/emergency-vehicle-operation-course-evoc/
LOCATION:Gladius Tactical – Los Angeles\, 16117 Covello St.\, Van Nuys\, CA\, 91406\, United States
CATEGORIES:Emergency Vehicle Operation Course
ATTACH;FMTTYPE=image/jpeg:https://gladiustactical.com/wp-content/uploads/2021/05/DSC1948-2-1280x561-1.jpg
END:VEVENT
END:VCALENDAR