BEGIN:VCALENDAR
VERSION:2.0
PRODID:-//Gladius Tactical - ECPv6.3.7//NONSGML v1.0//EN
CALSCALE:GREGORIAN
METHOD:PUBLISH
X-WR-CALNAME:Gladius Tactical
X-ORIGINAL-URL:https://gladiustactical.com
X-WR-CALDESC:Events for Gladius Tactical
REFRESH-INTERVAL;VALUE=DURATION:PT1H
X-Robots-Tag:noindex
X-PUBLISHED-TTL:PT1H
BEGIN:VTIMEZONE
TZID:America/Los_Angeles
BEGIN:DAYLIGHT
TZOFFSETFROM:-0800
TZOFFSETTO:-0700
TZNAME:PDT
DTSTART:20260308T100000
END:DAYLIGHT
BEGIN:STANDARD
TZOFFSETFROM:-0700
TZOFFSETTO:-0800
TZNAME:PST
DTSTART:20261101T090000
END:STANDARD
END:VTIMEZONE
BEGIN:VEVENT
DTSTART;TZID=America/Los_Angeles:20260508T080000
DTEND;TZID=America/Los_Angeles:20260510T170000
DTSTAMP:20260423T123807
CREATED:20231226T181049Z
LAST-MODIFIED:20260421T232532Z
UID:2556-1778227200-1778432400@gladiustactical.com
SUMMARY:Tactical Emergency Casualty Care (TECC)
DESCRIPTION:This course introduces evidence-based\, how-to-respond-to and how-to-care-for procedures for patients in a civilian tactical environment. It is designed to decrease preventable deaths in a tactical situation. The course presents the three phases of tactical care. Our instructors are certified by the National Association of Emergency Medical Technicians (NAEMT). \nSIGN UP HERE
URL:https://gladiustactical.com/event/tactical-emergency-casualty-care-tecc-7/
LOCATION:Gladius Tactical – Los Angeles\, 16117 Covello St.\, Van Nuys\, CA\, 91406\, United States
CATEGORIES:Gladius Tactical Los Angeles,Tactical Emergency Casualty Care
ATTACH;FMTTYPE=image/jpeg:https://gladiustactical.com/wp-content/uploads/2021/05/TECC.jpg
END:VEVENT
END:VCALENDAR